BEGIN:VCALENDAR
VERSION:2.0
PRODID:-//Lake Norman Ski Club - ECPv6.15.20//NONSGML v1.0//EN
CALSCALE:GREGORIAN
METHOD:PUBLISH
X-WR-CALNAME:Lake Norman Ski Club
X-ORIGINAL-URL:https://lakenormanskiclub.com
X-WR-CALDESC:Events for Lake Norman Ski Club
REFRESH-INTERVAL;VALUE=DURATION:PT1H
X-Robots-Tag:noindex
X-PUBLISHED-TTL:PT1H
BEGIN:VTIMEZONE
TZID:America/Halifax
BEGIN:DAYLIGHT
TZOFFSETFROM:-0400
TZOFFSETTO:-0300
TZNAME:ADT
DTSTART:20170312T060000
END:DAYLIGHT
BEGIN:STANDARD
TZOFFSETFROM:-0300
TZOFFSETTO:-0400
TZNAME:AST
DTSTART:20171105T050000
END:STANDARD
BEGIN:DAYLIGHT
TZOFFSETFROM:-0400
TZOFFSETTO:-0300
TZNAME:ADT
DTSTART:20180311T060000
END:DAYLIGHT
BEGIN:STANDARD
TZOFFSETFROM:-0300
TZOFFSETTO:-0400
TZNAME:AST
DTSTART:20181104T050000
END:STANDARD
BEGIN:DAYLIGHT
TZOFFSETFROM:-0400
TZOFFSETTO:-0300
TZNAME:ADT
DTSTART:20190310T060000
END:DAYLIGHT
BEGIN:STANDARD
TZOFFSETFROM:-0300
TZOFFSETTO:-0400
TZNAME:AST
DTSTART:20191103T050000
END:STANDARD
END:VTIMEZONE
BEGIN:VEVENT
DTSTART;TZID=America/Halifax:20181016T190000
DTEND;TZID=America/Halifax:20181016T210000
DTSTAMP:20260423T233531
CREATED:20181106T004545Z
LAST-MODIFIED:20181106T004545Z
UID:447-1539716400-1539723600@lakenormanskiclub.com
SUMMARY:October 2018 Board of Directors Meeting
DESCRIPTION:
URL:https://lakenormanskiclub.com/event/october-2018-board-of-directors-meeting/
CATEGORIES:Board of Directors,Calendar of Events,Meeting
END:VEVENT
BEGIN:VEVENT
DTSTART;TZID=America/Halifax:20180508T190000
DTEND;TZID=America/Halifax:20180508T210000
DTSTAMP:20260423T233531
CREATED:20180328T192211Z
LAST-MODIFIED:20180328T192211Z
UID:282-1525806000-1525813200@lakenormanskiclub.com
SUMMARY:May Board of Directors Meeting
DESCRIPTION:
URL:https://lakenormanskiclub.com/event/may-board-of-directors-meeting/
CATEGORIES:Meeting
END:VEVENT
BEGIN:VEVENT
DTSTART;TZID=America/Halifax:20180410T190000
DTEND;TZID=America/Halifax:20180410T210000
DTSTAMP:20260423T233531
CREATED:20180328T153644Z
LAST-MODIFIED:20180328T154105Z
UID:101-1523386800-1523394000@lakenormanskiclub.com
SUMMARY:April Board of Director's Meeting
DESCRIPTION:
URL:https://lakenormanskiclub.com/event/april-board-of-directors-meeting/
CATEGORIES:Calendar of Events,Meeting
END:VEVENT
END:VCALENDAR