BEGIN:VCALENDAR
VERSION:2.0
PRODID:-//Lake Norman Ski Club - ECPv6.15.20//NONSGML v1.0//EN
CALSCALE:GREGORIAN
METHOD:PUBLISH
X-ORIGINAL-URL:https://lakenormanskiclub.com
X-WR-CALDESC:Events for Lake Norman Ski Club
REFRESH-INTERVAL;VALUE=DURATION:PT1H
X-Robots-Tag:noindex
X-PUBLISHED-TTL:PT1H
BEGIN:VTIMEZONE
TZID:America/Halifax
BEGIN:DAYLIGHT
TZOFFSETFROM:-0400
TZOFFSETTO:-0300
TZNAME:ADT
DTSTART:20190310T060000
END:DAYLIGHT
BEGIN:STANDARD
TZOFFSETFROM:-0300
TZOFFSETTO:-0400
TZNAME:AST
DTSTART:20191103T050000
END:STANDARD
BEGIN:DAYLIGHT
TZOFFSETFROM:-0400
TZOFFSETTO:-0300
TZNAME:ADT
DTSTART:20200308T060000
END:DAYLIGHT
BEGIN:STANDARD
TZOFFSETFROM:-0300
TZOFFSETTO:-0400
TZNAME:AST
DTSTART:20201101T050000
END:STANDARD
BEGIN:DAYLIGHT
TZOFFSETFROM:-0400
TZOFFSETTO:-0300
TZNAME:ADT
DTSTART:20210314T060000
END:DAYLIGHT
BEGIN:STANDARD
TZOFFSETFROM:-0300
TZOFFSETTO:-0400
TZNAME:AST
DTSTART:20211107T050000
END:STANDARD
BEGIN:DAYLIGHT
TZOFFSETFROM:-0400
TZOFFSETTO:-0300
TZNAME:ADT
DTSTART:20220313T060000
END:DAYLIGHT
BEGIN:STANDARD
TZOFFSETFROM:-0300
TZOFFSETTO:-0400
TZNAME:AST
DTSTART:20221106T050000
END:STANDARD
BEGIN:DAYLIGHT
TZOFFSETFROM:-0400
TZOFFSETTO:-0300
TZNAME:ADT
DTSTART:20230312T060000
END:DAYLIGHT
BEGIN:STANDARD
TZOFFSETFROM:-0300
TZOFFSETTO:-0400
TZNAME:AST
DTSTART:20231105T050000
END:STANDARD
END:VTIMEZONE
BEGIN:VEVENT
DTSTART;TZID=America/Halifax:20220913T170000
DTEND;TZID=America/Halifax:20220913T200000
DTSTAMP:20260423T193104
CREATED:20220511T173403Z
LAST-MODIFIED:20220511T182618Z
UID:1464-1663088400-1663099200@lakenormanskiclub.com
SUMMARY:Ski Club Practice – Eddie’s Beach
DESCRIPTION:Starting and ending times are variable and depend on multiple factors including driver availability and weather.  Please make sure you’re on the club mailing list to receive any last minute time changes.
URL:https://lakenormanskiclub.com/event/ski-club-practice-eddies-beach-18/
LOCATION:Eddie’s on Lake Norman\, 643 Williamson Rd\, Mooresville\, NC\, 28117\, United States
CATEGORIES:Group Ski
END:VEVENT
BEGIN:VEVENT
DTSTART;TZID=America/Halifax:20220906T170000
DTEND;TZID=America/Halifax:20220906T200000
DTSTAMP:20260423T193104
CREATED:20220511T173246Z
LAST-MODIFIED:20220511T182619Z
UID:1462-1662483600-1662494400@lakenormanskiclub.com
SUMMARY:Ski Club Practice – Eddie’s Beach
DESCRIPTION:Starting and ending times are variable and depend on multiple factors including driver availability and weather.  Please make sure you’re on the club mailing list to receive any last minute time changes.
URL:https://lakenormanskiclub.com/event/ski-club-practice-eddies-beach-17/
LOCATION:Eddie’s on Lake Norman\, 643 Williamson Rd\, Mooresville\, NC\, 28117\, United States
CATEGORIES:Group Ski
END:VEVENT
BEGIN:VEVENT
DTSTART;TZID=America/Halifax:20220830T170000
DTEND;TZID=America/Halifax:20220830T200000
DTSTAMP:20260423T193104
CREATED:20220511T173126Z
LAST-MODIFIED:20220511T182619Z
UID:1460-1661878800-1661889600@lakenormanskiclub.com
SUMMARY:Ski Club Practice – Eddie’s Beach
DESCRIPTION:Starting and ending times are variable and depend on multiple factors including driver availability and weather.  Please make sure you’re on the club mailing list to receive any last minute time changes.
URL:https://lakenormanskiclub.com/event/ski-club-practice-eddies-beach-16/
LOCATION:Eddie’s on Lake Norman\, 643 Williamson Rd\, Mooresville\, NC\, 28117\, United States
CATEGORIES:Group Ski
END:VEVENT
BEGIN:VEVENT
DTSTART;TZID=America/Halifax:20220823T170000
DTEND;TZID=America/Halifax:20220823T200000
DTSTAMP:20260423T193104
CREATED:20220511T173043Z
LAST-MODIFIED:20220511T182619Z
UID:1458-1661274000-1661284800@lakenormanskiclub.com
SUMMARY:Ski Club Practice – Eddie’s Beach
DESCRIPTION:Starting and ending times are variable and depend on multiple factors including driver availability and weather.  Please make sure you’re on the club mailing list to receive any last minute time changes.
URL:https://lakenormanskiclub.com/event/ski-club-practice-eddies-beach-15/
LOCATION:Eddie’s on Lake Norman\, 643 Williamson Rd\, Mooresville\, NC\, 28117\, United States
CATEGORIES:Group Ski
END:VEVENT
BEGIN:VEVENT
DTSTART;TZID=America/Halifax:20220816T170000
DTEND;TZID=America/Halifax:20220816T200000
DTSTAMP:20260423T193104
CREATED:20220511T173005Z
LAST-MODIFIED:20220511T182619Z
UID:1456-1660669200-1660680000@lakenormanskiclub.com
SUMMARY:Ski Club Practice – Eddie’s Beach
DESCRIPTION:Starting and ending times are variable and depend on multiple factors including driver availability and weather.  Please make sure you’re on the club mailing list to receive any last minute time changes.
URL:https://lakenormanskiclub.com/event/ski-club-practice-eddies-beach-14/
LOCATION:Eddie’s on Lake Norman\, 643 Williamson Rd\, Mooresville\, NC\, 28117\, United States
CATEGORIES:Group Ski
END:VEVENT
BEGIN:VEVENT
DTSTART;TZID=America/Halifax:20220809T170000
DTEND;TZID=America/Halifax:20220809T200000
DTSTAMP:20260423T193104
CREATED:20220511T172918Z
LAST-MODIFIED:20220511T182619Z
UID:1453-1660064400-1660075200@lakenormanskiclub.com
SUMMARY:Ski Club Practice – Eddie’s Beach
DESCRIPTION:Starting and ending times are variable and depend on multiple factors including driver availability and weather.  Please make sure you’re on the club mailing list to receive any last minute time changes.
URL:https://lakenormanskiclub.com/event/ski-club-practice-eddies-beach-13/
LOCATION:Eddie’s on Lake Norman\, 643 Williamson Rd\, Mooresville\, NC\, 28117\, United States
CATEGORIES:Group Ski
END:VEVENT
BEGIN:VEVENT
DTSTART;TZID=America/Halifax:20220802T170000
DTEND;TZID=America/Halifax:20220802T200000
DTSTAMP:20260423T193104
CREATED:20220511T172846Z
LAST-MODIFIED:20220511T182619Z
UID:1451-1659459600-1659470400@lakenormanskiclub.com
SUMMARY:Ski Club Practice – Eddie’s Beach
DESCRIPTION:Starting and ending times are variable and depend on multiple factors including driver availability and weather.  Please make sure you’re on the club mailing list to receive any last minute time changes.
URL:https://lakenormanskiclub.com/event/ski-club-practice-eddies-beach-12/
LOCATION:Eddie’s on Lake Norman\, 643 Williamson Rd\, Mooresville\, NC\, 28117\, United States
CATEGORIES:Group Ski
END:VEVENT
BEGIN:VEVENT
DTSTART;TZID=America/Halifax:20220726T170000
DTEND;TZID=America/Halifax:20220726T200000
DTSTAMP:20260423T193104
CREATED:20220511T172747Z
LAST-MODIFIED:20220511T182619Z
UID:1449-1658854800-1658865600@lakenormanskiclub.com
SUMMARY:Ski Club Practice – Eddie’s Beach
DESCRIPTION:Starting and ending times are variable and depend on multiple factors including driver availability and weather.  Please make sure you’re on the club mailing list to receive any last minute time changes.
URL:https://lakenormanskiclub.com/event/ski-club-practice-eddies-beach-11/
LOCATION:Eddie’s on Lake Norman\, 643 Williamson Rd\, Mooresville\, NC\, 28117\, United States
CATEGORIES:Group Ski
END:VEVENT
BEGIN:VEVENT
DTSTART;TZID=America/Halifax:20220719T170000
DTEND;TZID=America/Halifax:20220719T200000
DTSTAMP:20260423T193104
CREATED:20220511T172658Z
LAST-MODIFIED:20220511T182619Z
UID:1447-1658250000-1658260800@lakenormanskiclub.com
SUMMARY:Ski Club Practice – Eddie’s Beach
DESCRIPTION:Starting and ending times are variable and depend on multiple factors including driver availability and weather.  Please make sure you’re on the club mailing list to receive any last minute time changes.
URL:https://lakenormanskiclub.com/event/ski-club-practice-eddies-beach-10/
LOCATION:Eddie’s on Lake Norman\, 643 Williamson Rd\, Mooresville\, NC\, 28117\, United States
CATEGORIES:Group Ski
END:VEVENT
BEGIN:VEVENT
DTSTART;TZID=America/Halifax:20220712T170000
DTEND;TZID=America/Halifax:20220712T200000
DTSTAMP:20260423T193104
CREATED:20220511T172613Z
LAST-MODIFIED:20220511T182619Z
UID:1445-1657645200-1657656000@lakenormanskiclub.com
SUMMARY:Ski Club Practice – Eddie’s Beach
DESCRIPTION:Starting and ending times are variable and depend on multiple factors including driver availability and weather.  Please make sure you’re on the club mailing list to receive any last minute time changes.
URL:https://lakenormanskiclub.com/event/ski-club-practice-eddies-beach-9/
LOCATION:Eddie’s on Lake Norman\, 643 Williamson Rd\, Mooresville\, NC\, 28117\, United States
CATEGORIES:Group Ski
END:VEVENT
BEGIN:VEVENT
DTSTART;TZID=America/Halifax:20220705T170000
DTEND;TZID=America/Halifax:20220705T200000
DTSTAMP:20260423T193104
CREATED:20220511T172533Z
LAST-MODIFIED:20220511T182619Z
UID:1443-1657040400-1657051200@lakenormanskiclub.com
SUMMARY:Ski Club Practice – Eddie’s Beach
DESCRIPTION:Starting and ending times are variable and depend on multiple factors including driver availability and weather.  Please make sure you’re on the club mailing list to receive any last minute time changes.
URL:https://lakenormanskiclub.com/event/ski-club-practice-eddies-beach-8/
LOCATION:Eddie’s on Lake Norman\, 643 Williamson Rd\, Mooresville\, NC\, 28117\, United States
CATEGORIES:Group Ski
END:VEVENT
BEGIN:VEVENT
DTSTART;TZID=America/Halifax:20220628T170000
DTEND;TZID=America/Halifax:20220628T200000
DTSTAMP:20260423T193104
CREATED:20220511T172437Z
LAST-MODIFIED:20220511T182619Z
UID:1441-1656435600-1656446400@lakenormanskiclub.com
SUMMARY:Ski Club Practice – Eddie’s Beach
DESCRIPTION:Starting and ending times are variable and depend on multiple factors including driver availability and weather.  Please make sure you’re on the club mailing list to receive any last minute time changes.
URL:https://lakenormanskiclub.com/event/ski-club-practice-eddies-beach-7/
LOCATION:Eddie’s on Lake Norman\, 643 Williamson Rd\, Mooresville\, NC\, 28117\, United States
CATEGORIES:Group Ski
END:VEVENT
BEGIN:VEVENT
DTSTART;TZID=America/Halifax:20220621T170000
DTEND;TZID=America/Halifax:20220621T200000
DTSTAMP:20260423T193104
CREATED:20220511T172336Z
LAST-MODIFIED:20220511T182619Z
UID:1439-1655830800-1655841600@lakenormanskiclub.com
SUMMARY:Ski Club Practice – Eddie’s Beach
DESCRIPTION:Starting and ending times are variable and depend on multiple factors including driver availability and weather.  Please make sure you’re on the club mailing list to receive any last minute time changes.
URL:https://lakenormanskiclub.com/event/ski-club-practice-eddies-beach-6/
LOCATION:Eddie’s on Lake Norman\, 643 Williamson Rd\, Mooresville\, NC\, 28117\, United States
CATEGORIES:Group Ski
END:VEVENT
BEGIN:VEVENT
DTSTART;TZID=America/Halifax:20220614T170000
DTEND;TZID=America/Halifax:20220614T200000
DTSTAMP:20260423T193104
CREATED:20220511T172254Z
LAST-MODIFIED:20220511T182619Z
UID:1437-1655226000-1655236800@lakenormanskiclub.com
SUMMARY:Ski Club Practice – Eddie’s Beach
DESCRIPTION:Starting and ending times are variable and depend on multiple factors including driver availability and weather.  Please make sure you’re on the club mailing list to receive any last minute time changes.
URL:https://lakenormanskiclub.com/event/ski-club-practice-eddies-beach-5/
LOCATION:Eddie’s on Lake Norman\, 643 Williamson Rd\, Mooresville\, NC\, 28117\, United States
CATEGORIES:Group Ski
END:VEVENT
BEGIN:VEVENT
DTSTART;TZID=America/Halifax:20220607T170000
DTEND;TZID=America/Halifax:20220607T200000
DTSTAMP:20260423T193104
CREATED:20220511T171158Z
LAST-MODIFIED:20220511T182620Z
UID:1426-1654621200-1654632000@lakenormanskiclub.com
SUMMARY:Ski Club Practice – Eddie’s Beach
DESCRIPTION:Starting and ending times are variable and depend on multiple factors including driver availability and weather.  Please make sure you’re on the club mailing list to receive any last minute time changes.
URL:https://lakenormanskiclub.com/event/ski-club-practice-eddies-beach-3/
LOCATION:Eddie’s on Lake Norman\, 643 Williamson Rd\, Mooresville\, NC\, 28117\, United States
CATEGORIES:Group Ski
END:VEVENT
BEGIN:VEVENT
DTSTART;TZID=America/Halifax:20220602T093000
DTEND;TZID=America/Halifax:20220602T153000
DTSTAMP:20260423T193104
CREATED:20220511T172016Z
LAST-MODIFIED:20220511T182620Z
UID:1435-1654162200-1654183800@lakenormanskiclub.com
SUMMARY:Wade Cox Ski Lessons – All Day Event
DESCRIPTION:Wade will conduct 15 sets\, 6 passes\, each day.  Each skier will be dropped at the end of every pass for instruction and feedback.  The price is $80 per set.  Payment is required in advance\, but is fully refundable for bad weather.  First come\, first served.  We will offer the available sets to the LKN Ski Club members first\, then open up to non-members.
URL:https://lakenormanskiclub.com/event/wade-cox-ski-lessons-all-day-event-2/
LOCATION:Lake Davidson Ski Course\, G46P+92 Davidson\, North Carolina
CATEGORIES:Group Ski
END:VEVENT
BEGIN:VEVENT
DTSTART;TZID=America/Halifax:20220601T093000
DTEND;TZID=America/Halifax:20220601T153000
DTSTAMP:20260423T193104
CREATED:20220511T171927Z
LAST-MODIFIED:20220511T182620Z
UID:1430-1654075800-1654097400@lakenormanskiclub.com
SUMMARY:Wade Cox Ski Lessons - All Day Event
DESCRIPTION:Wade will conduct 15 sets\, 6 passes\, each day.  Each skier will be dropped at the end of every pass for instruction and feedback.  The price is $80 per set.  Payment is required in advance\, but is fully refundable for bad weather.  First come\, first served.  We will offer the available sets to the LKN Ski Club members first\, then open up to non-members.
URL:https://lakenormanskiclub.com/event/wade-cox-ski-lessons-all-day-event/
LOCATION:Lake Davidson Ski Course\, G46P+92 Davidson\, North Carolina
CATEGORIES:Group Ski
END:VEVENT
BEGIN:VEVENT
DTSTART;TZID=America/Halifax:20220531T170000
DTEND;TZID=America/Halifax:20220531T200000
DTSTAMP:20260423T193104
CREATED:20220511T171304Z
LAST-MODIFIED:20220511T182620Z
UID:1428-1654016400-1654027200@lakenormanskiclub.com
SUMMARY:Ski Club Practice – Eddie’s Beach
DESCRIPTION:Starting and ending times are variable and depend on multiple factors including driver availability and weather.  Please make sure you’re on the club mailing list to receive any last minute time changes.
URL:https://lakenormanskiclub.com/event/ski-club-practice-eddies-beach-4/
LOCATION:Eddie’s on Lake Norman\, 643 Williamson Rd\, Mooresville\, NC\, 28117\, United States
CATEGORIES:Group Ski
END:VEVENT
BEGIN:VEVENT
DTSTART;TZID=America/Halifax:20220524T170000
DTEND;TZID=America/Halifax:20220524T200000
DTSTAMP:20260423T193104
CREATED:20220511T171017Z
LAST-MODIFIED:20220511T182620Z
UID:1424-1653411600-1653422400@lakenormanskiclub.com
SUMMARY:Ski Club Practice – Eddie’s Beach
DESCRIPTION:Starting and ending times are variable and depend on multiple factors including driver availability and weather.  Please make sure you’re on the club mailing list to receive any last minute time changes.
URL:https://lakenormanskiclub.com/event/ski-club-practice-eddies-beach-2/
LOCATION:Eddie’s on Lake Norman\, 643 Williamson Rd\, Mooresville\, NC\, 28117\, United States
CATEGORIES:Group Ski
END:VEVENT
BEGIN:VEVENT
DTSTART;TZID=America/Halifax:20220517T170000
DTEND;TZID=America/Halifax:20220517T200000
DTSTAMP:20260423T193104
CREATED:20220511T170736Z
LAST-MODIFIED:20220511T182620Z
UID:1422-1652806800-1652817600@lakenormanskiclub.com
SUMMARY:Ski Club Practice - Eddie's Beach
DESCRIPTION:Starting and ending times are variable and depend on multiple factors including driver availability and weather.  Please make sure you’re on the club mailing list to receive any last minute time changes.
URL:https://lakenormanskiclub.com/event/ski-club-practice-eddies-beach/
LOCATION:Eddie’s on Lake Norman\, 643 Williamson Rd\, Mooresville\, NC\, 28117\, United States
CATEGORIES:Group Ski
END:VEVENT
BEGIN:VEVENT
DTSTART;TZID=America/Halifax:20201225T000000
DTEND;TZID=America/Halifax:20201225T000000
DTSTAMP:20260423T193104
CREATED:20180328T162310Z
LAST-MODIFIED:20180328T164031Z
UID:141-1608854400-1608854400@lakenormanskiclub.com
SUMMARY:Christmas Day
DESCRIPTION:
URL:https://lakenormanskiclub.com/event/christmas-day-3/
LOCATION:NC
CATEGORIES:Calendar of Events,Holiday
END:VEVENT
BEGIN:VEVENT
DTSTART;TZID=America/Halifax:20201126T000000
DTEND;TZID=America/Halifax:20201126T000000
DTSTAMP:20260423T193104
CREATED:20180328T162309Z
LAST-MODIFIED:20180328T164032Z
UID:140-1606348800-1606348800@lakenormanskiclub.com
SUMMARY:Thanksgiving Day
DESCRIPTION:
URL:https://lakenormanskiclub.com/event/thanksgiving-day-3/
LOCATION:NC
CATEGORIES:Calendar of Events,Holiday
END:VEVENT
BEGIN:VEVENT
DTSTART;TZID=America/Halifax:20201124T190000
DTEND;TZID=America/Halifax:20201124T210000
DTSTAMP:20260423T193104
CREATED:20201118T145127Z
LAST-MODIFIED:20201118T155348Z
UID:991-1606244400-1606251600@lakenormanskiclub.com
SUMMARY:Club Meeting
DESCRIPTION:Brickhouse Tavern \n209 Delburg Street \nDavidson NC 28036
URL:https://lakenormanskiclub.com/event/club-meeting/
LOCATION:NC
CATEGORIES:Calendar of Events,Club Events,Meeting
END:VEVENT
BEGIN:VEVENT
DTSTART;TZID=America/Halifax:20201111T000000
DTEND;TZID=America/Halifax:20201111T000000
DTSTAMP:20260423T193104
CREATED:20180328T162309Z
LAST-MODIFIED:20180328T164032Z
UID:139-1605052800-1605052800@lakenormanskiclub.com
SUMMARY:Veterans Day
DESCRIPTION:
URL:https://lakenormanskiclub.com/event/veterans-day-3/
LOCATION:NC
CATEGORIES:Calendar of Events,Holiday
END:VEVENT
BEGIN:VEVENT
DTSTART;TZID=America/Halifax:20201012T000000
DTEND;TZID=America/Halifax:20201012T000000
DTSTAMP:20260423T193104
CREATED:20180328T162309Z
LAST-MODIFIED:20180328T164032Z
UID:138-1602460800-1602460800@lakenormanskiclub.com
SUMMARY:Columbus Day
DESCRIPTION:
URL:https://lakenormanskiclub.com/event/columbus-day-3/
LOCATION:NC
CATEGORIES:Calendar of Events,Holiday
END:VEVENT
BEGIN:VEVENT
DTSTART;TZID=America/Halifax:20200907T000000
DTEND;TZID=America/Halifax:20200907T000000
DTSTAMP:20260423T193104
CREATED:20180328T162308Z
LAST-MODIFIED:20180328T164032Z
UID:137-1599436800-1599436800@lakenormanskiclub.com
SUMMARY:Labor Day
DESCRIPTION:
URL:https://lakenormanskiclub.com/event/labor-day-3/
LOCATION:NC
CATEGORIES:Calendar of Events,Holiday
END:VEVENT
BEGIN:VEVENT
DTSTART;TZID=America/Halifax:20200703T000000
DTEND;TZID=America/Halifax:20200703T000000
DTSTAMP:20260423T193104
CREATED:20180328T162306Z
LAST-MODIFIED:20180328T164032Z
UID:136-1593734400-1593734400@lakenormanskiclub.com
SUMMARY:Independence Day
DESCRIPTION:
URL:https://lakenormanskiclub.com/event/independence-day-3/
LOCATION:NC
CATEGORIES:Calendar of Events,Holiday
END:VEVENT
BEGIN:VEVENT
DTSTART;TZID=America/Halifax:20200525T000000
DTEND;TZID=America/Halifax:20200525T000000
DTSTAMP:20260423T193104
CREATED:20180328T162305Z
LAST-MODIFIED:20180328T164032Z
UID:135-1590364800-1590364800@lakenormanskiclub.com
SUMMARY:Memorial Day
DESCRIPTION:
URL:https://lakenormanskiclub.com/event/memorial-day-3/
LOCATION:NC
CATEGORIES:Calendar of Events,Holiday
END:VEVENT
BEGIN:VEVENT
DTSTART;TZID=America/Halifax:20200217T000000
DTEND;TZID=America/Halifax:20200217T000000
DTSTAMP:20260423T193104
CREATED:20180328T162305Z
LAST-MODIFIED:20180328T164032Z
UID:134-1581897600-1581897600@lakenormanskiclub.com
SUMMARY:Presidents Day (Washingtons Birthday)
DESCRIPTION:
URL:https://lakenormanskiclub.com/event/presidents-day-washingtons-birthday-3/
LOCATION:NC
CATEGORIES:Calendar of Events,Holiday
END:VEVENT
BEGIN:VEVENT
DTSTART;TZID=America/Halifax:20200120T000000
DTEND;TZID=America/Halifax:20200120T000000
DTSTAMP:20260423T193104
CREATED:20180328T162304Z
LAST-MODIFIED:20180328T164032Z
UID:133-1579478400-1579478400@lakenormanskiclub.com
SUMMARY:Martin Luther King Jr. Day
DESCRIPTION:
URL:https://lakenormanskiclub.com/event/martin-luther-king-jr-day-3/
LOCATION:NC
CATEGORIES:Calendar of Events,Holiday
END:VEVENT
END:VCALENDAR