BEGIN:VCALENDAR
VERSION:2.0
PRODID:-//Lake Norman Ski Club - ECPv6.15.20//NONSGML v1.0//EN
CALSCALE:GREGORIAN
METHOD:PUBLISH
X-ORIGINAL-URL:https://lakenormanskiclub.com
X-WR-CALDESC:Events for Lake Norman Ski Club
REFRESH-INTERVAL;VALUE=DURATION:PT1H
X-Robots-Tag:noindex
X-PUBLISHED-TTL:PT1H
BEGIN:VTIMEZONE
TZID:America/Halifax
BEGIN:DAYLIGHT
TZOFFSETFROM:-0400
TZOFFSETTO:-0300
TZNAME:ADT
DTSTART:20170312T060000
END:DAYLIGHT
BEGIN:STANDARD
TZOFFSETFROM:-0300
TZOFFSETTO:-0400
TZNAME:AST
DTSTART:20171105T050000
END:STANDARD
BEGIN:DAYLIGHT
TZOFFSETFROM:-0400
TZOFFSETTO:-0300
TZNAME:ADT
DTSTART:20180311T060000
END:DAYLIGHT
BEGIN:STANDARD
TZOFFSETFROM:-0300
TZOFFSETTO:-0400
TZNAME:AST
DTSTART:20181104T050000
END:STANDARD
BEGIN:DAYLIGHT
TZOFFSETFROM:-0400
TZOFFSETTO:-0300
TZNAME:ADT
DTSTART:20190310T060000
END:DAYLIGHT
BEGIN:STANDARD
TZOFFSETFROM:-0300
TZOFFSETTO:-0400
TZNAME:AST
DTSTART:20191103T050000
END:STANDARD
END:VTIMEZONE
BEGIN:VTIMEZONE
TZID:UTC
BEGIN:STANDARD
TZOFFSETFROM:+0000
TZOFFSETTO:+0000
TZNAME:UTC
DTSTART:20170101T000000
END:STANDARD
END:VTIMEZONE
BEGIN:VTIMEZONE
TZID:America/Sao_Paulo
BEGIN:STANDARD
TZOFFSETFROM:-0200
TZOFFSETTO:-0300
TZNAME:-03
DTSTART:20170219T020000
END:STANDARD
BEGIN:DAYLIGHT
TZOFFSETFROM:-0300
TZOFFSETTO:-0200
TZNAME:-02
DTSTART:20171015T030000
END:DAYLIGHT
BEGIN:STANDARD
TZOFFSETFROM:-0200
TZOFFSETTO:-0300
TZNAME:-03
DTSTART:20180218T020000
END:STANDARD
BEGIN:DAYLIGHT
TZOFFSETFROM:-0300
TZOFFSETTO:-0200
TZNAME:-02
DTSTART:20181104T030000
END:DAYLIGHT
BEGIN:STANDARD
TZOFFSETFROM:-0200
TZOFFSETTO:-0300
TZNAME:-03
DTSTART:20190217T020000
END:STANDARD
END:VTIMEZONE
BEGIN:VEVENT
DTSTART;VALUE=DATE:20180807
DTEND;VALUE=DATE:20180812
DTSTAMP:20260424T043742
CREATED:20180402T023324Z
LAST-MODIFIED:20180402T023324Z
UID:308-1533600000-1534031999@lakenormanskiclub.com
SUMMARY:76th GOODE Water Ski National Championships
DESCRIPTION:
URL:https://lakenormanskiclub.com/event/76th-goode-water-ski-national-championships/
CATEGORIES:Tournaments
END:VEVENT
BEGIN:VEVENT
DTSTART;TZID=America/Halifax:20180731T170000
DTEND;TZID=America/Halifax:20180731T210000
DTSTAMP:20260424T043742
CREATED:20180328T190512Z
LAST-MODIFIED:20180328T191635Z
UID:258-1533056400-1533070800@lakenormanskiclub.com
SUMMARY:Tuesday Night Ski Practice Session
DESCRIPTION:Please Park in the SECOND LOT as a courtesy to Eddie’s & Prickly Pear’s customer parking spaces that are next to the restaurants\, we strive to stay in their good graces.
URL:https://lakenormanskiclub.com/event/tuesday-night-ski-practice-session-10/
LOCATION:Eddie’s on Lake Norman\, 643 Williamson Rd\, Mooresville\, NC\, 28117\, United States
CATEGORIES:Group Ski
END:VEVENT
BEGIN:VEVENT
DTSTART;VALUE=DATE:20180730
DTEND;VALUE=DATE:20180731
DTSTAMP:20260424T043742
CREATED:20180328T172542Z
LAST-MODIFIED:20180328T172542Z
UID:195-1532908800-1532995199@lakenormanskiclub.com
SUMMARY:Wake the World
DESCRIPTION:
URL:https://lakenormanskiclub.com/event/wake-the-world-5/
CATEGORIES:Charity
END:VEVENT
BEGIN:VEVENT
DTSTART;VALUE=DATE:20180730
DTEND;VALUE=DATE:20180731
DTSTAMP:20260424T043742
CREATED:20180328T172418Z
LAST-MODIFIED:20180328T172418Z
UID:192-1532908800-1532995199@lakenormanskiclub.com
SUMMARY:Wake the World
DESCRIPTION:
URL:https://lakenormanskiclub.com/event/wake-the-world-4/
CATEGORIES:Charity
END:VEVENT
BEGIN:VEVENT
DTSTART;VALUE=DATE:20180726
DTEND;VALUE=DATE:20180729
DTSTAMP:20260424T043742
CREATED:20180402T022946Z
LAST-MODIFIED:20180402T022957Z
UID:305-1532563200-1532822399@lakenormanskiclub.com
SUMMARY:Southern Regionals
DESCRIPTION:
URL:https://lakenormanskiclub.com/event/southern-regionals/
CATEGORIES:Tournaments
END:VEVENT
BEGIN:VEVENT
DTSTART;TZID=America/Halifax:20180724T170000
DTEND;TZID=America/Halifax:20180724T210000
DTSTAMP:20260424T043742
CREATED:20180328T190433Z
LAST-MODIFIED:20180328T191606Z
UID:256-1532451600-1532466000@lakenormanskiclub.com
SUMMARY:Tuesday Night Ski Practice Session
DESCRIPTION:Please Park in the SECOND LOT as a courtesy to Eddie’s & Prickly Pear’s customer parking spaces that are next to the restaurants\, we strive to stay in their good graces.
URL:https://lakenormanskiclub.com/event/tuesday-night-ski-practice-session-9/
LOCATION:Eddie’s on Lake Norman\, 643 Williamson Rd\, Mooresville\, NC\, 28117\, United States
CATEGORIES:Group Ski
END:VEVENT
BEGIN:VEVENT
DTSTART;VALUE=DATE:20180721
DTEND;VALUE=DATE:20180722
DTSTAMP:20260424T043742
CREATED:20180409T021331Z
LAST-MODIFIED:20180409T021331Z
UID:324-1532131200-1532217599@lakenormanskiclub.com
SUMMARY:Big Day on the Lake
DESCRIPTION:Big Day at the Lake was founded 14 years ago by friends\, neighbors and businesses who had a vision of sharing the lake with at-risk children who would not otherwise experience Lake Norman.
URL:https://lakenormanskiclub.com/event/big-day-on-the-lake/
CATEGORIES:Charity
END:VEVENT
BEGIN:VEVENT
DTSTART;TZID=America/Halifax:20180717T170000
DTEND;TZID=America/Halifax:20180717T210000
DTSTAMP:20260424T043742
CREATED:20180328T190315Z
LAST-MODIFIED:20180328T191539Z
UID:254-1531846800-1531861200@lakenormanskiclub.com
SUMMARY:Tuesday Night Ski Practice Session
DESCRIPTION:Please Park in the SECOND LOT as a courtesy to Eddie’s & Prickly Pear’s customer parking spaces that are next to the restaurants\, we strive to stay in their good graces.
URL:https://lakenormanskiclub.com/event/tuesday-night-ski-practice-session-8/
LOCATION:Eddie’s on Lake Norman\, 643 Williamson Rd\, Mooresville\, NC\, 28117\, United States
CATEGORIES:Group Ski
END:VEVENT
BEGIN:VEVENT
DTSTART;VALUE=DATE:20180714
DTEND;VALUE=DATE:20180716
DTSTAMP:20260424T043742
CREATED:20180328T180714Z
LAST-MODIFIED:20180328T180714Z
UID:230-1531526400-1531699199@lakenormanskiclub.com
SUMMARY:North Carolina State Championships
DESCRIPTION:
URL:https://lakenormanskiclub.com/event/north-carolina-state-championships/
CATEGORIES:Tournaments
END:VEVENT
BEGIN:VEVENT
DTSTART;VALUE=DATE:20180714
DTEND;VALUE=DATE:20180716
DTSTAMP:20260424T043742
CREATED:20180328T174635Z
LAST-MODIFIED:20180328T174635Z
UID:205-1531526400-1531699199@lakenormanskiclub.com
SUMMARY:2018 Virginia State Championships
DESCRIPTION:
URL:https://lakenormanskiclub.com/event/2018-virginia-state-championships/
CATEGORIES:Tournaments
END:VEVENT
BEGIN:VEVENT
DTSTART;VALUE=DATE:20180714
DTEND;VALUE=DATE:20180715
DTSTAMP:20260424T043742
CREATED:20180328T172223Z
LAST-MODIFIED:20180328T172223Z
UID:189-1531526400-1531612799@lakenormanskiclub.com
SUMMARY:Wake the World
DESCRIPTION:
URL:https://lakenormanskiclub.com/event/wake-the-world-3/
CATEGORIES:Charity
END:VEVENT
BEGIN:VEVENT
DTSTART;TZID=America/Halifax:20180710T170000
DTEND;TZID=America/Halifax:20180710T210000
DTSTAMP:20260424T043742
CREATED:20180328T190201Z
LAST-MODIFIED:20180328T191520Z
UID:252-1531242000-1531256400@lakenormanskiclub.com
SUMMARY:Tuesday Night Ski Practice Session
DESCRIPTION:Please Park in the SECOND LOT as a courtesy to Eddie’s & Prickly Pear’s customer parking spaces that are next to the restaurants\, we strive to stay in their good graces.
URL:https://lakenormanskiclub.com/event/tuesday-night-ski-practice-session-7/
LOCATION:Eddie’s on Lake Norman\, 643 Williamson Rd\, Mooresville\, NC\, 28117\, United States
CATEGORIES:Group Ski
END:VEVENT
BEGIN:VEVENT
DTSTART;VALUE=DATE:20180707
DTEND;VALUE=DATE:20180709
DTSTAMP:20260424T043742
CREATED:20180328T174421Z
LAST-MODIFIED:20180328T174443Z
UID:202-1530921600-1531094399@lakenormanskiclub.com
SUMMARY:Lake Holly 40th Anniversary Three-Event
DESCRIPTION:
URL:https://lakenormanskiclub.com/event/lake-holly-40th-anniversary-three-event/
CATEGORIES:Tournaments
END:VEVENT
BEGIN:VEVENT
DTSTART;TZID=America/Halifax:20180704T000000
DTEND;TZID=America/Halifax:20180704T000000
DTSTAMP:20260424T043742
CREATED:20180328T162245Z
LAST-MODIFIED:20180328T164247Z
UID:116-1530662400-1530662400@lakenormanskiclub.com
SUMMARY:Independence Day
DESCRIPTION:
URL:https://lakenormanskiclub.com/event/independence-day/
CATEGORIES:Calendar of Events,Holiday
END:VEVENT
BEGIN:VEVENT
DTSTART;TZID=America/Halifax:20180703T170000
DTEND;TZID=America/Halifax:20180703T210000
DTSTAMP:20260424T043742
CREATED:20180328T190116Z
LAST-MODIFIED:20180328T191459Z
UID:250-1530637200-1530651600@lakenormanskiclub.com
SUMMARY:Tuesday Night Ski Practice Session
DESCRIPTION:Please Park in the SECOND LOT as a courtesy to Eddie’s & Prickly Pear’s customer parking spaces that are next to the restaurants\, we strive to stay in their good graces.
URL:https://lakenormanskiclub.com/event/tuesday-night-ski-practice-session-6/
LOCATION:Eddie’s on Lake Norman\, 643 Williamson Rd\, Mooresville\, NC\, 28117\, United States
CATEGORIES:Group Ski
END:VEVENT
BEGIN:VEVENT
DTSTART;TZID=America/Halifax:20180626T170000
DTEND;TZID=America/Halifax:20180626T210000
DTSTAMP:20260424T043742
CREATED:20180328T184333Z
LAST-MODIFIED:20180328T191433Z
UID:248-1530032400-1530046800@lakenormanskiclub.com
SUMMARY:Tuesday Night Ski Practice Session
DESCRIPTION:Please Park in the SECOND LOT as a courtesy to Eddie’s & Prickly Pear’s customer parking spaces that are next to the restaurants\, we strive to stay in their good graces.
URL:https://lakenormanskiclub.com/event/tuesday-night-ski-practice-session-5/
LOCATION:Eddie’s on Lake Norman\, 643 Williamson Rd\, Mooresville\, NC\, 28117\, United States
CATEGORIES:Group Ski
END:VEVENT
BEGIN:VEVENT
DTSTART;VALUE=DATE:20180623
DTEND;VALUE=DATE:20180625
DTSTAMP:20260424T043742
CREATED:20180328T180557Z
LAST-MODIFIED:20180328T180557Z
UID:227-1529712000-1529884799@lakenormanskiclub.com
SUMMARY:Earl Smith 3 Event and Fun
DESCRIPTION:
URL:https://lakenormanskiclub.com/event/earl-smith-3-event-and-fun/
CATEGORIES:Tournaments
END:VEVENT
BEGIN:VEVENT
DTSTART;VALUE=DATE:20180623
DTEND;VALUE=DATE:20180625
DTSTAMP:20260424T043742
CREATED:20180328T174058Z
LAST-MODIFIED:20180328T174058Z
UID:198-1529712000-1529884799@lakenormanskiclub.com
SUMMARY:RWSC Kickoff
DESCRIPTION:
URL:https://lakenormanskiclub.com/event/rwsc-kickoff/
CATEGORIES:Tournaments
ORGANIZER;CN="Dave Satterfield":MAILTO:clemsontigerdave@yahoo.com
END:VEVENT
BEGIN:VEVENT
DTSTART;VALUE=DATE:20180623
DTEND;VALUE=DATE:20180624
DTSTAMP:20260424T043742
CREATED:20180328T172002Z
LAST-MODIFIED:20180328T172002Z
UID:186-1529712000-1529798399@lakenormanskiclub.com
SUMMARY:Wake the World
DESCRIPTION:
URL:https://lakenormanskiclub.com/event/wake-the-world-2/
CATEGORIES:Charity
END:VEVENT
BEGIN:VEVENT
DTSTART;TZID=America/Halifax:20180619T170000
DTEND;TZID=America/Halifax:20180619T210000
DTSTAMP:20260424T043742
CREATED:20180328T184248Z
LAST-MODIFIED:20180328T191317Z
UID:246-1529427600-1529442000@lakenormanskiclub.com
SUMMARY:Tuesday Night Ski Practice Session
DESCRIPTION:Please Park in the SECOND LOT as a courtesy to Eddie’s & Prickly Pear’s customer parking spaces that are next to the restaurants\, we strive to stay in their good graces.
URL:https://lakenormanskiclub.com/event/tuesday-night-ski-practice-session-4/
LOCATION:Eddie’s on Lake Norman\, 643 Williamson Rd\, Mooresville\, NC\, 28117\, United States
CATEGORIES:Group Ski
END:VEVENT
BEGIN:VEVENT
DTSTART;VALUE=DATE:20180618
DTEND;VALUE=DATE:20180620
DTSTAMP:20260424T043742
CREATED:20180328T171812Z
LAST-MODIFIED:20180328T171812Z
UID:184-1529280000-1529452799@lakenormanskiclub.com
SUMMARY:Wake the World
DESCRIPTION:
URL:https://lakenormanskiclub.com/event/wake-the-world/
CATEGORIES:Charity
END:VEVENT
BEGIN:VEVENT
DTSTART;VALUE=DATE:20180616
DTEND;VALUE=DATE:20180618
DTSTAMP:20260424T043742
CREATED:20180328T180407Z
LAST-MODIFIED:20180328T180407Z
UID:224-1529107200-1529279999@lakenormanskiclub.com
SUMMARY:Beaver Lake Pro-Am and Night Jump
DESCRIPTION:
URL:https://lakenormanskiclub.com/event/beaver-lake-pro-am-and-night-jump/
CATEGORIES:Tournaments
END:VEVENT
BEGIN:VEVENT
DTSTART;VALUE=DATE:20180614
DTEND;VALUE=DATE:20180616
DTSTAMP:20260424T043742
CREATED:20180328T171728Z
LAST-MODIFIED:20180328T171830Z
UID:181-1528934400-1529107199@lakenormanskiclub.com
SUMMARY:Wake the World - Adaptive
DESCRIPTION:
URL:https://lakenormanskiclub.com/event/wake-the-world-adaptive/
CATEGORIES:Charity
END:VEVENT
BEGIN:VEVENT
DTSTART;TZID=America/Halifax:20180612T170000
DTEND;TZID=America/Halifax:20180612T210000
DTSTAMP:20260424T043742
CREATED:20180328T184115Z
LAST-MODIFIED:20180328T191222Z
UID:244-1528822800-1528837200@lakenormanskiclub.com
SUMMARY:Tuesday Night Ski Practice Session
DESCRIPTION:Please Park in the SECOND LOT as a courtesy to Eddie’s & Prickly Pear’s customer parking spaces that are next to the restaurants\, we strive to stay in their good graces.
URL:https://lakenormanskiclub.com/event/tuesday-night-ski-practice-session-3/
LOCATION:Eddie’s on Lake Norman\, 643 Williamson Rd\, Mooresville\, NC\, 28117\, United States
CATEGORIES:Group Ski
END:VEVENT
BEGIN:VEVENT
DTSTART;VALUE=DATE:20180609
DTEND;VALUE=DATE:20180611
DTSTAMP:20260424T043742
CREATED:20180328T180211Z
LAST-MODIFIED:20180328T180211Z
UID:221-1528502400-1528675199@lakenormanskiclub.com
SUMMARY:Jerry Hargis Memorial
DESCRIPTION:
URL:https://lakenormanskiclub.com/event/jerry-hargis-memorial/
CATEGORIES:Tournaments
END:VEVENT
BEGIN:VEVENT
DTSTART;TZID=America/Sao_Paulo:20180605T170000
DTEND;TZID=America/Sao_Paulo:20180605T210000
DTSTAMP:20260424T043742
CREATED:20180328T184031Z
LAST-MODIFIED:20180328T191042Z
UID:242-1528218000-1528232400@lakenormanskiclub.com
SUMMARY:Tuesday Night Ski Practice Session
DESCRIPTION:Please Park in the SECOND LOT as a courtesy to Eddie’s & Prickly Pear’s customer parking spaces that are next to the restaurants\, we strive to stay in their good graces.
URL:https://lakenormanskiclub.com/event/tuesday-night-ski-practice-session-2/
LOCATION:Eddie’s on Lake Norman\, 643 Williamson Rd\, Mooresville\, NC\, 28117\, United States
CATEGORIES:Group Ski
END:VEVENT
BEGIN:VEVENT
DTSTART;TZID=America/Halifax:20180602T110000
DTEND;TZID=America/Halifax:20180602T140000
DTSTAMP:20260424T043742
CREATED:20180517T020619Z
LAST-MODIFIED:20180517T021110Z
UID:352-1527937200-1527948000@lakenormanskiclub.com
SUMMARY:Spring Kickoff Party
DESCRIPTION:https://www.evite.com/event/00F07EI5L244SY3AGEPIJGI55CNFJ4/rsvp?utm_campaign=send_sharable_link&utm_medium=sharable_invite&utm_source=www.facebook.com
URL:https://lakenormanskiclub.com/event/spring-kickoff-party/
CATEGORIES:Calendar of Events
END:VEVENT
BEGIN:VEVENT
DTSTART;VALUE=DATE:20180602
DTEND;VALUE=DATE:20180604
DTSTAMP:20260424T043742
CREATED:20180328T175724Z
LAST-MODIFIED:20180328T175724Z
UID:215-1527897600-1528070399@lakenormanskiclub.com
SUMMARY:Skyview 3-Event
DESCRIPTION:
URL:https://lakenormanskiclub.com/event/skyview-3-event/
CATEGORIES:Tournaments
END:VEVENT
BEGIN:VEVENT
DTSTART;TZID=America/Halifax:20180529T170000
DTEND;TZID=America/Halifax:20180529T210000
DTSTAMP:20260424T043742
CREATED:20180328T170938Z
LAST-MODIFIED:20180328T171120Z
UID:178-1527613200-1527627600@lakenormanskiclub.com
SUMMARY:Tuesday Night Ski Practice Session
DESCRIPTION:Please Park in the SECOND LOT as a courtesy to Eddie’s & Prickly Pear’s customer parking spaces that are next to the restaurants\, we strive to stay in their good graces.
URL:https://lakenormanskiclub.com/event/tuesday-night-ski-practice-session/
LOCATION:Eddie’s on Lake Norman\, 643 Williamson Rd\, Mooresville\, NC\, 28117\, United States
CATEGORIES:Group Ski
END:VEVENT
BEGIN:VEVENT
DTSTART;VALUE=DATE:20180528
DTEND;VALUE=DATE:20180529
DTSTAMP:20260424T043742
CREATED:20180328T162244Z
LAST-MODIFIED:20180328T164247Z
UID:115-1527465600-1527551999@lakenormanskiclub.com
SUMMARY:Memorial Day
DESCRIPTION:
URL:https://lakenormanskiclub.com/event/memorial-day/
CATEGORIES:Calendar of Events,Holiday
END:VEVENT
END:VCALENDAR