BEGIN:VCALENDAR
VERSION:2.0
PRODID:-//Lake Norman Ski Club - ECPv6.15.20//NONSGML v1.0//EN
CALSCALE:GREGORIAN
METHOD:PUBLISH
X-WR-CALNAME:Lake Norman Ski Club
X-ORIGINAL-URL:https://lakenormanskiclub.com
X-WR-CALDESC:Events for Lake Norman Ski Club
REFRESH-INTERVAL;VALUE=DURATION:PT1H
X-Robots-Tag:noindex
X-PUBLISHED-TTL:PT1H
BEGIN:VTIMEZONE
TZID:America/Halifax
BEGIN:DAYLIGHT
TZOFFSETFROM:-0400
TZOFFSETTO:-0300
TZNAME:ADT
DTSTART:20180311T060000
END:DAYLIGHT
BEGIN:STANDARD
TZOFFSETFROM:-0300
TZOFFSETTO:-0400
TZNAME:AST
DTSTART:20181104T050000
END:STANDARD
BEGIN:DAYLIGHT
TZOFFSETFROM:-0400
TZOFFSETTO:-0300
TZNAME:ADT
DTSTART:20190310T060000
END:DAYLIGHT
BEGIN:STANDARD
TZOFFSETFROM:-0300
TZOFFSETTO:-0400
TZNAME:AST
DTSTART:20191103T050000
END:STANDARD
BEGIN:DAYLIGHT
TZOFFSETFROM:-0400
TZOFFSETTO:-0300
TZNAME:ADT
DTSTART:20200308T060000
END:DAYLIGHT
BEGIN:STANDARD
TZOFFSETFROM:-0300
TZOFFSETTO:-0400
TZNAME:AST
DTSTART:20201101T050000
END:STANDARD
BEGIN:DAYLIGHT
TZOFFSETFROM:-0400
TZOFFSETTO:-0300
TZNAME:ADT
DTSTART:20210314T060000
END:DAYLIGHT
BEGIN:STANDARD
TZOFFSETFROM:-0300
TZOFFSETTO:-0400
TZNAME:AST
DTSTART:20211107T050000
END:STANDARD
END:VTIMEZONE
BEGIN:VEVENT
DTSTART;TZID=America/Halifax:20201225T000000
DTEND;TZID=America/Halifax:20201225T000000
DTSTAMP:20260423T165042
CREATED:20180328T162310Z
LAST-MODIFIED:20180328T164031Z
UID:141-1608854400-1608854400@lakenormanskiclub.com
SUMMARY:Christmas Day
DESCRIPTION:
URL:https://lakenormanskiclub.com/event/christmas-day-3/
CATEGORIES:Calendar of Events,Holiday
END:VEVENT
BEGIN:VEVENT
DTSTART;TZID=America/Halifax:20201126T000000
DTEND;TZID=America/Halifax:20201126T000000
DTSTAMP:20260423T165042
CREATED:20180328T162309Z
LAST-MODIFIED:20180328T164032Z
UID:140-1606348800-1606348800@lakenormanskiclub.com
SUMMARY:Thanksgiving Day
DESCRIPTION:
URL:https://lakenormanskiclub.com/event/thanksgiving-day-3/
CATEGORIES:Calendar of Events,Holiday
END:VEVENT
BEGIN:VEVENT
DTSTART;TZID=America/Halifax:20201124T190000
DTEND;TZID=America/Halifax:20201124T210000
DTSTAMP:20260423T165042
CREATED:20201118T145127Z
LAST-MODIFIED:20201118T155348Z
UID:991-1606244400-1606251600@lakenormanskiclub.com
SUMMARY:Club Meeting
DESCRIPTION:Brickhouse Tavern \n209 Delburg Street \nDavidson NC 28036
URL:https://lakenormanskiclub.com/event/club-meeting/
CATEGORIES:Calendar of Events,Club Events,Meeting
END:VEVENT
BEGIN:VEVENT
DTSTART;TZID=America/Halifax:20201111T000000
DTEND;TZID=America/Halifax:20201111T000000
DTSTAMP:20260423T165042
CREATED:20180328T162309Z
LAST-MODIFIED:20180328T164032Z
UID:139-1605052800-1605052800@lakenormanskiclub.com
SUMMARY:Veterans Day
DESCRIPTION:
URL:https://lakenormanskiclub.com/event/veterans-day-3/
CATEGORIES:Calendar of Events,Holiday
END:VEVENT
BEGIN:VEVENT
DTSTART;TZID=America/Halifax:20201012T000000
DTEND;TZID=America/Halifax:20201012T000000
DTSTAMP:20260423T165042
CREATED:20180328T162309Z
LAST-MODIFIED:20180328T164032Z
UID:138-1602460800-1602460800@lakenormanskiclub.com
SUMMARY:Columbus Day
DESCRIPTION:
URL:https://lakenormanskiclub.com/event/columbus-day-3/
CATEGORIES:Calendar of Events,Holiday
END:VEVENT
BEGIN:VEVENT
DTSTART;TZID=America/Halifax:20200907T000000
DTEND;TZID=America/Halifax:20200907T000000
DTSTAMP:20260423T165042
CREATED:20180328T162308Z
LAST-MODIFIED:20180328T164032Z
UID:137-1599436800-1599436800@lakenormanskiclub.com
SUMMARY:Labor Day
DESCRIPTION:
URL:https://lakenormanskiclub.com/event/labor-day-3/
CATEGORIES:Calendar of Events,Holiday
END:VEVENT
BEGIN:VEVENT
DTSTART;TZID=America/Halifax:20200703T000000
DTEND;TZID=America/Halifax:20200703T000000
DTSTAMP:20260423T165042
CREATED:20180328T162306Z
LAST-MODIFIED:20180328T164032Z
UID:136-1593734400-1593734400@lakenormanskiclub.com
SUMMARY:Independence Day
DESCRIPTION:
URL:https://lakenormanskiclub.com/event/independence-day-3/
CATEGORIES:Calendar of Events,Holiday
END:VEVENT
BEGIN:VEVENT
DTSTART;TZID=America/Halifax:20200525T000000
DTEND;TZID=America/Halifax:20200525T000000
DTSTAMP:20260423T165042
CREATED:20180328T162305Z
LAST-MODIFIED:20180328T164032Z
UID:135-1590364800-1590364800@lakenormanskiclub.com
SUMMARY:Memorial Day
DESCRIPTION:
URL:https://lakenormanskiclub.com/event/memorial-day-3/
CATEGORIES:Calendar of Events,Holiday
END:VEVENT
BEGIN:VEVENT
DTSTART;TZID=America/Halifax:20200217T000000
DTEND;TZID=America/Halifax:20200217T000000
DTSTAMP:20260423T165042
CREATED:20180328T162305Z
LAST-MODIFIED:20180328T164032Z
UID:134-1581897600-1581897600@lakenormanskiclub.com
SUMMARY:Presidents Day (Washingtons Birthday)
DESCRIPTION:
URL:https://lakenormanskiclub.com/event/presidents-day-washingtons-birthday-3/
CATEGORIES:Calendar of Events,Holiday
END:VEVENT
BEGIN:VEVENT
DTSTART;TZID=America/Halifax:20200120T000000
DTEND;TZID=America/Halifax:20200120T000000
DTSTAMP:20260423T165042
CREATED:20180328T162304Z
LAST-MODIFIED:20180328T164032Z
UID:133-1579478400-1579478400@lakenormanskiclub.com
SUMMARY:Martin Luther King Jr. Day
DESCRIPTION:
URL:https://lakenormanskiclub.com/event/martin-luther-king-jr-day-3/
CATEGORIES:Calendar of Events,Holiday
END:VEVENT
BEGIN:VEVENT
DTSTART;TZID=America/Halifax:20200101T000000
DTEND;TZID=America/Halifax:20200101T000000
DTSTAMP:20260423T165042
CREATED:20180328T162303Z
LAST-MODIFIED:20180328T164032Z
UID:132-1577836800-1577836800@lakenormanskiclub.com
SUMMARY:New Year Day
DESCRIPTION:
URL:https://lakenormanskiclub.com/event/new-year-day-3/
CATEGORIES:Calendar of Events,Holiday
END:VEVENT
BEGIN:VEVENT
DTSTART;TZID=America/Halifax:20191225T000000
DTEND;TZID=America/Halifax:20191225T000000
DTSTAMP:20260423T165042
CREATED:20180328T162302Z
LAST-MODIFIED:20180328T164032Z
UID:131-1577232000-1577232000@lakenormanskiclub.com
SUMMARY:Christmas Day
DESCRIPTION:
URL:https://lakenormanskiclub.com/event/christmas-day-2/
CATEGORIES:Calendar of Events,Holiday
END:VEVENT
BEGIN:VEVENT
DTSTART;TZID=America/Halifax:20191128T000000
DTEND;TZID=America/Halifax:20191128T000000
DTSTAMP:20260423T165042
CREATED:20180328T162301Z
LAST-MODIFIED:20180328T164032Z
UID:130-1574899200-1574899200@lakenormanskiclub.com
SUMMARY:Thanksgiving Day
DESCRIPTION:
URL:https://lakenormanskiclub.com/event/thanksgiving-day-2/
CATEGORIES:Calendar of Events,Holiday
END:VEVENT
BEGIN:VEVENT
DTSTART;TZID=America/Halifax:20191111T000000
DTEND;TZID=America/Halifax:20191111T000000
DTSTAMP:20260423T165042
CREATED:20180328T162300Z
LAST-MODIFIED:20180328T164032Z
UID:129-1573430400-1573430400@lakenormanskiclub.com
SUMMARY:Veterans Day
DESCRIPTION:
URL:https://lakenormanskiclub.com/event/veterans-day-2/
CATEGORIES:Calendar of Events,Holiday
END:VEVENT
BEGIN:VEVENT
DTSTART;TZID=America/Halifax:20191014T000000
DTEND;TZID=America/Halifax:20191014T000000
DTSTAMP:20260423T165042
CREATED:20180328T162259Z
LAST-MODIFIED:20180328T164032Z
UID:128-1571011200-1571011200@lakenormanskiclub.com
SUMMARY:Columbus Day
DESCRIPTION:
URL:https://lakenormanskiclub.com/event/columbus-day-2/
CATEGORIES:Calendar of Events,Holiday
END:VEVENT
BEGIN:VEVENT
DTSTART;TZID=America/Halifax:20191008T190000
DTEND;TZID=America/Halifax:20191008T210000
DTSTAMP:20260423T165042
CREATED:20190131T114701Z
LAST-MODIFIED:20190131T114701Z
UID:555-1570561200-1570568400@lakenormanskiclub.com
SUMMARY:October 2019 Board of Directors Meeting
DESCRIPTION:
URL:https://lakenormanskiclub.com/event/october-2019-board-of-directors-meeting/
CATEGORIES:Board of Directors,Calendar of Events,Meeting
END:VEVENT
BEGIN:VEVENT
DTSTART;TZID=America/Halifax:20190910T190000
DTEND;TZID=America/Halifax:20190910T210000
DTSTAMP:20260423T165042
CREATED:20190131T114606Z
LAST-MODIFIED:20190131T114606Z
UID:553-1568142000-1568149200@lakenormanskiclub.com
SUMMARY:September 2019 Board of Directors Meeting
DESCRIPTION:
URL:https://lakenormanskiclub.com/event/september-2019-board-of-directors-meeting/
CATEGORIES:Board of Directors,Calendar of Events,Meeting
END:VEVENT
BEGIN:VEVENT
DTSTART;TZID=America/Halifax:20190902T000000
DTEND;TZID=America/Halifax:20190902T000000
DTSTAMP:20260423T165042
CREATED:20180328T162258Z
LAST-MODIFIED:20180328T164032Z
UID:127-1567382400-1567382400@lakenormanskiclub.com
SUMMARY:Labor Day
DESCRIPTION:
URL:https://lakenormanskiclub.com/event/labor-day-2/
CATEGORIES:Calendar of Events,Holiday
END:VEVENT
BEGIN:VEVENT
DTSTART;TZID=America/Halifax:20190704T000000
DTEND;TZID=America/Halifax:20190704T000000
DTSTAMP:20260423T165042
CREATED:20180328T162257Z
LAST-MODIFIED:20180328T164032Z
UID:126-1562198400-1562198400@lakenormanskiclub.com
SUMMARY:Independence Day
DESCRIPTION:
URL:https://lakenormanskiclub.com/event/independence-day-2/
CATEGORIES:Calendar of Events,Holiday
END:VEVENT
BEGIN:VEVENT
DTSTART;TZID=America/Halifax:20190618T170000
DTEND;TZID=America/Halifax:20190618T200000
DTSTAMP:20260423T165042
CREATED:20190131T115625Z
LAST-MODIFIED:20190131T115625Z
UID:561-1560877200-1560888000@lakenormanskiclub.com
SUMMARY:Tuesday Night Free Ski
DESCRIPTION:This is an opportunity to ski with other club members\, hangout and share stories at Eddie’s or the Prickly Pear\, and improve your skiing. \n  \nPlease Park in the SECOND LOT as a courtesy to Eddie’s & Prickly Pear’s customer parking spaces that are next to the restaurants\, we strive to stay in their good graces.
URL:https://lakenormanskiclub.com/event/tuesday-night-free-ski-3/
LOCATION:Eddie’s on Lake Norman\, 643 Williamson Rd\, Mooresville\, NC\, 28117\, United States
CATEGORIES:Calendar of Events,Club Events,Group Ski
ATTACH;FMTTYPE=image/jpeg:https://lakenormanskiclub.com/wp-content/uploads/2018/03/18193899_456159408060116_9019110716560770921_n.jpg
END:VEVENT
BEGIN:VEVENT
DTSTART;TZID=America/Halifax:20190611T170000
DTEND;TZID=America/Halifax:20190611T200000
DTSTAMP:20260423T165042
CREATED:20190131T115501Z
LAST-MODIFIED:20190131T115501Z
UID:559-1560272400-1560283200@lakenormanskiclub.com
SUMMARY:Tuesday Night Free Ski
DESCRIPTION:This is an opportunity to ski with other club members\, hangout and share stories at Eddie’s or the Prickly Pear\, and improve your skiing. \n  \nPlease Park in the SECOND LOT as a courtesy to Eddie’s & Prickly Pear’s customer parking spaces that are next to the restaurants\, we strive to stay in their good graces.
URL:https://lakenormanskiclub.com/event/tuesday-night-free-ski-2/
LOCATION:Eddie’s on Lake Norman\, 643 Williamson Rd\, Mooresville\, NC\, 28117\, United States
CATEGORIES:Calendar of Events,Club Events,Group Ski
ATTACH;FMTTYPE=image/jpeg:https://lakenormanskiclub.com/wp-content/uploads/2018/05/Brian-1.jpg
END:VEVENT
BEGIN:VEVENT
DTSTART;TZID=America/Halifax:20190604T170000
DTEND;TZID=America/Halifax:20190604T200000
DTSTAMP:20260423T165042
CREATED:20190131T115048Z
LAST-MODIFIED:20190131T115310Z
UID:557-1559667600-1559678400@lakenormanskiclub.com
SUMMARY:Tuesday Night Free Ski
DESCRIPTION:This is an opportunity to ski with other club members\, hangout and share stories at Eddie’s or the Prickly Pear\, and improve your skiing. \n  \nPlease Park in the SECOND LOT as a courtesy to Eddie’s & Prickly Pear’s customer parking spaces that are next to the restaurants\, we strive to stay in their good graces.
URL:https://lakenormanskiclub.com/event/tuesday-night-free-ski/
LOCATION:Eddie’s on Lake Norman\, 643 Williamson Rd\, Mooresville\, NC\, 28117\, United States
CATEGORIES:Calendar of Events,Club Events,Group Ski
ATTACH;FMTTYPE=image/jpeg:https://lakenormanskiclub.com/wp-content/uploads/2018/05/Roger-3.jpg
END:VEVENT
BEGIN:VEVENT
DTSTART;TZID=America/Halifax:20190527T000000
DTEND;TZID=America/Halifax:20190527T000000
DTSTAMP:20260423T165042
CREATED:20180328T162256Z
LAST-MODIFIED:20180328T164032Z
UID:125-1558915200-1558915200@lakenormanskiclub.com
SUMMARY:Memorial Day
DESCRIPTION:
URL:https://lakenormanskiclub.com/event/memorial-day-2/
CATEGORIES:Calendar of Events,Holiday
END:VEVENT
BEGIN:VEVENT
DTSTART;TZID=America/Halifax:20190514T080000
DTEND;TZID=America/Halifax:20190514T170000
DTSTAMP:20260423T165042
CREATED:20190131T114502Z
LAST-MODIFIED:20190514T181508Z
UID:551-1557820800-1557853200@lakenormanskiclub.com
SUMMARY:May 2019 Board of Directors Meeting
DESCRIPTION:
URL:https://lakenormanskiclub.com/event/may-2019-board-of-directors-meeting/
LOCATION:Eddie’s on Lake Norman\, 643 Williamson Rd\, Mooresville\, NC\, 28117\, United States
CATEGORIES:Board of Directors,Calendar of Events,Meeting
END:VEVENT
BEGIN:VEVENT
DTSTART;TZID=America/Halifax:20190409T080000
DTEND;TZID=America/Halifax:20190409T170000
DTSTAMP:20260423T165042
CREATED:20190131T114335Z
LAST-MODIFIED:20190131T114335Z
UID:549-1554796800-1554829200@lakenormanskiclub.com
SUMMARY:April 2019 Board of Directors Meeting
DESCRIPTION:
URL:https://lakenormanskiclub.com/event/april-2019-board-of-directors-meeting/
CATEGORIES:Board of Directors,Calendar of Events,Meeting
END:VEVENT
BEGIN:VEVENT
DTSTART;TZID=America/Halifax:20190312T190000
DTEND;TZID=America/Halifax:20190312T210000
DTSTAMP:20260423T165042
CREATED:20190131T114240Z
LAST-MODIFIED:20190131T114240Z
UID:547-1552417200-1552424400@lakenormanskiclub.com
SUMMARY:March 2019 Board of Directors Meeting
DESCRIPTION:
URL:https://lakenormanskiclub.com/event/march-2019-board-of-directors-meeting/
CATEGORIES:Board of Directors,Calendar of Events,Meeting
END:VEVENT
BEGIN:VEVENT
DTSTART;TZID=America/Halifax:20190218T000000
DTEND;TZID=America/Halifax:20190218T000000
DTSTAMP:20260423T165042
CREATED:20180328T162255Z
LAST-MODIFIED:20180328T164032Z
UID:124-1550448000-1550448000@lakenormanskiclub.com
SUMMARY:Presidents Day (Washingtons Birthday)
DESCRIPTION:
URL:https://lakenormanskiclub.com/event/presidents-day-washingtons-birthday-2/
CATEGORIES:Calendar of Events,Holiday
END:VEVENT
BEGIN:VEVENT
DTSTART;TZID=America/Halifax:20190213T190000
DTEND;TZID=America/Halifax:20190213T210000
DTSTAMP:20260423T165042
CREATED:20190131T113955Z
LAST-MODIFIED:20190131T113955Z
UID:545-1550084400-1550091600@lakenormanskiclub.com
SUMMARY:February 2019 Board of Directors Meeting
DESCRIPTION:
URL:https://lakenormanskiclub.com/event/february-2019-board-of-directors-meeting/
CATEGORIES:Board of Directors,Calendar of Events,Meeting
END:VEVENT
BEGIN:VEVENT
DTSTART;TZID=America/Halifax:20190121T000000
DTEND;TZID=America/Halifax:20190121T000000
DTSTAMP:20260423T165042
CREATED:20180328T162255Z
LAST-MODIFIED:20180328T164032Z
UID:123-1548028800-1548028800@lakenormanskiclub.com
SUMMARY:Martin Luther King Jr. Day
DESCRIPTION:
URL:https://lakenormanskiclub.com/event/martin-luther-king-jr-day-2/
CATEGORIES:Calendar of Events,Holiday
END:VEVENT
BEGIN:VEVENT
DTSTART;TZID=America/Halifax:20190108T190000
DTEND;TZID=America/Halifax:20190108T210000
DTSTAMP:20260423T165042
CREATED:20181227T201154Z
LAST-MODIFIED:20190131T114055Z
UID:516-1546974000-1546981200@lakenormanskiclub.com
SUMMARY:January 2018 Board of Directors Meeting
DESCRIPTION:
URL:https://lakenormanskiclub.com/event/january-2018-board-of-directors-meeting/
CATEGORIES:Board of Directors,Calendar of Events,Meeting
END:VEVENT
END:VCALENDAR