BEGIN:VCALENDAR
VERSION:2.0
PRODID:-//Lake Norman Ski Club - ECPv6.15.20//NONSGML v1.0//EN
CALSCALE:GREGORIAN
METHOD:PUBLISH
X-WR-CALNAME:Lake Norman Ski Club
X-ORIGINAL-URL:https://lakenormanskiclub.com
X-WR-CALDESC:Events for Lake Norman Ski Club
REFRESH-INTERVAL;VALUE=DURATION:PT1H
X-Robots-Tag:noindex
X-PUBLISHED-TTL:PT1H
BEGIN:VTIMEZONE
TZID:America/Halifax
BEGIN:DAYLIGHT
TZOFFSETFROM:-0400
TZOFFSETTO:-0300
TZNAME:ADT
DTSTART:20170312T060000
END:DAYLIGHT
BEGIN:STANDARD
TZOFFSETFROM:-0300
TZOFFSETTO:-0400
TZNAME:AST
DTSTART:20171105T050000
END:STANDARD
BEGIN:DAYLIGHT
TZOFFSETFROM:-0400
TZOFFSETTO:-0300
TZNAME:ADT
DTSTART:20180311T060000
END:DAYLIGHT
BEGIN:STANDARD
TZOFFSETFROM:-0300
TZOFFSETTO:-0400
TZNAME:AST
DTSTART:20181104T050000
END:STANDARD
BEGIN:DAYLIGHT
TZOFFSETFROM:-0400
TZOFFSETTO:-0300
TZNAME:ADT
DTSTART:20190310T060000
END:DAYLIGHT
BEGIN:STANDARD
TZOFFSETFROM:-0300
TZOFFSETTO:-0400
TZNAME:AST
DTSTART:20191103T050000
END:STANDARD
BEGIN:DAYLIGHT
TZOFFSETFROM:-0400
TZOFFSETTO:-0300
TZNAME:ADT
DTSTART:20200308T060000
END:DAYLIGHT
BEGIN:STANDARD
TZOFFSETFROM:-0300
TZOFFSETTO:-0400
TZNAME:AST
DTSTART:20201101T050000
END:STANDARD
END:VTIMEZONE
BEGIN:VTIMEZONE
TZID:UTC
BEGIN:STANDARD
TZOFFSETFROM:+0000
TZOFFSETTO:+0000
TZNAME:UTC
DTSTART:20170101T000000
END:STANDARD
END:VTIMEZONE
BEGIN:VEVENT
DTSTART;TZID=America/Halifax:20190611T170000
DTEND;TZID=America/Halifax:20190611T200000
DTSTAMP:20260423T192854
CREATED:20190131T115501Z
LAST-MODIFIED:20190131T115501Z
UID:559-1560272400-1560283200@lakenormanskiclub.com
SUMMARY:Tuesday Night Free Ski
DESCRIPTION:This is an opportunity to ski with other club members\, hangout and share stories at Eddie’s or the Prickly Pear\, and improve your skiing. \n  \nPlease Park in the SECOND LOT as a courtesy to Eddie’s & Prickly Pear’s customer parking spaces that are next to the restaurants\, we strive to stay in their good graces.
URL:https://lakenormanskiclub.com/event/tuesday-night-free-ski-2/
LOCATION:Eddie’s on Lake Norman\, 643 Williamson Rd\, Mooresville\, NC\, 28117\, United States
CATEGORIES:Calendar of Events,Club Events,Group Ski
ATTACH;FMTTYPE=image/jpeg:https://lakenormanskiclub.com/wp-content/uploads/2018/05/Brian-1.jpg
END:VEVENT
BEGIN:VEVENT
DTSTART;TZID=America/Halifax:20190604T170000
DTEND;TZID=America/Halifax:20190604T200000
DTSTAMP:20260423T192854
CREATED:20190131T115048Z
LAST-MODIFIED:20190131T115310Z
UID:557-1559667600-1559678400@lakenormanskiclub.com
SUMMARY:Tuesday Night Free Ski
DESCRIPTION:This is an opportunity to ski with other club members\, hangout and share stories at Eddie’s or the Prickly Pear\, and improve your skiing. \n  \nPlease Park in the SECOND LOT as a courtesy to Eddie’s & Prickly Pear’s customer parking spaces that are next to the restaurants\, we strive to stay in their good graces.
URL:https://lakenormanskiclub.com/event/tuesday-night-free-ski/
LOCATION:Eddie’s on Lake Norman\, 643 Williamson Rd\, Mooresville\, NC\, 28117\, United States
CATEGORIES:Calendar of Events,Club Events,Group Ski
ATTACH;FMTTYPE=image/jpeg:https://lakenormanskiclub.com/wp-content/uploads/2018/05/Roger-3.jpg
END:VEVENT
BEGIN:VEVENT
DTSTART;TZID=America/Halifax:20190527T000000
DTEND;TZID=America/Halifax:20190527T000000
DTSTAMP:20260423T192854
CREATED:20180328T162256Z
LAST-MODIFIED:20180328T164032Z
UID:125-1558915200-1558915200@lakenormanskiclub.com
SUMMARY:Memorial Day
DESCRIPTION:
URL:https://lakenormanskiclub.com/event/memorial-day-2/
CATEGORIES:Calendar of Events,Holiday
END:VEVENT
BEGIN:VEVENT
DTSTART;TZID=America/Halifax:20190514T080000
DTEND;TZID=America/Halifax:20190514T170000
DTSTAMP:20260423T192854
CREATED:20190131T114502Z
LAST-MODIFIED:20190514T181508Z
UID:551-1557820800-1557853200@lakenormanskiclub.com
SUMMARY:May 2019 Board of Directors Meeting
DESCRIPTION:
URL:https://lakenormanskiclub.com/event/may-2019-board-of-directors-meeting/
LOCATION:Eddie’s on Lake Norman\, 643 Williamson Rd\, Mooresville\, NC\, 28117\, United States
CATEGORIES:Board of Directors,Calendar of Events,Meeting
END:VEVENT
BEGIN:VEVENT
DTSTART;TZID=America/Halifax:20190409T080000
DTEND;TZID=America/Halifax:20190409T170000
DTSTAMP:20260423T192854
CREATED:20190131T114335Z
LAST-MODIFIED:20190131T114335Z
UID:549-1554796800-1554829200@lakenormanskiclub.com
SUMMARY:April 2019 Board of Directors Meeting
DESCRIPTION:
URL:https://lakenormanskiclub.com/event/april-2019-board-of-directors-meeting/
CATEGORIES:Board of Directors,Calendar of Events,Meeting
END:VEVENT
BEGIN:VEVENT
DTSTART;TZID=America/Halifax:20190312T190000
DTEND;TZID=America/Halifax:20190312T210000
DTSTAMP:20260423T192854
CREATED:20190131T114240Z
LAST-MODIFIED:20190131T114240Z
UID:547-1552417200-1552424400@lakenormanskiclub.com
SUMMARY:March 2019 Board of Directors Meeting
DESCRIPTION:
URL:https://lakenormanskiclub.com/event/march-2019-board-of-directors-meeting/
CATEGORIES:Board of Directors,Calendar of Events,Meeting
END:VEVENT
BEGIN:VEVENT
DTSTART;TZID=America/Halifax:20190218T000000
DTEND;TZID=America/Halifax:20190218T000000
DTSTAMP:20260423T192854
CREATED:20180328T162255Z
LAST-MODIFIED:20180328T164032Z
UID:124-1550448000-1550448000@lakenormanskiclub.com
SUMMARY:Presidents Day (Washingtons Birthday)
DESCRIPTION:
URL:https://lakenormanskiclub.com/event/presidents-day-washingtons-birthday-2/
CATEGORIES:Calendar of Events,Holiday
END:VEVENT
BEGIN:VEVENT
DTSTART;TZID=America/Halifax:20190213T190000
DTEND;TZID=America/Halifax:20190213T210000
DTSTAMP:20260423T192854
CREATED:20190131T113955Z
LAST-MODIFIED:20190131T113955Z
UID:545-1550084400-1550091600@lakenormanskiclub.com
SUMMARY:February 2019 Board of Directors Meeting
DESCRIPTION:
URL:https://lakenormanskiclub.com/event/february-2019-board-of-directors-meeting/
CATEGORIES:Board of Directors,Calendar of Events,Meeting
END:VEVENT
BEGIN:VEVENT
DTSTART;TZID=America/Halifax:20190121T000000
DTEND;TZID=America/Halifax:20190121T000000
DTSTAMP:20260423T192854
CREATED:20180328T162255Z
LAST-MODIFIED:20180328T164032Z
UID:123-1548028800-1548028800@lakenormanskiclub.com
SUMMARY:Martin Luther King Jr. Day
DESCRIPTION:
URL:https://lakenormanskiclub.com/event/martin-luther-king-jr-day-2/
CATEGORIES:Calendar of Events,Holiday
END:VEVENT
BEGIN:VEVENT
DTSTART;TZID=America/Halifax:20190108T190000
DTEND;TZID=America/Halifax:20190108T210000
DTSTAMP:20260423T192854
CREATED:20181227T201154Z
LAST-MODIFIED:20190131T114055Z
UID:516-1546974000-1546981200@lakenormanskiclub.com
SUMMARY:January 2018 Board of Directors Meeting
DESCRIPTION:
URL:https://lakenormanskiclub.com/event/january-2018-board-of-directors-meeting/
CATEGORIES:Board of Directors,Calendar of Events,Meeting
END:VEVENT
BEGIN:VEVENT
DTSTART;TZID=America/Halifax:20190101T110000
DTEND;TZID=America/Halifax:20190101T170000
DTSTAMP:20260423T192854
CREATED:20181215T172542Z
LAST-MODIFIED:20190131T114117Z
UID:491-1546340400-1546362000@lakenormanskiclub.com
SUMMARY:New Years Day Barefoot Challenge
DESCRIPTION:The New Year’s Day Barefoot Tournament on Lake Norman is one of the longest running and most unique barefoot tournaments in the world. Held annually in Mundy Cove in front of Lake Norman Marina and hosted by the Carolina Show Ski Team\, it combines barefoot waterskiing starts\, tricks\, and endurance into one scored and competitive adventure. This will be the 41st year barefooters are making a splash on New Year’s Day. \nIn the past\, the annual event has drawn participants from Florida\, Wisconsin\, Indiana\, New Jersey\, Tennessee\, Virginia\, and\, of course\, the Carolinas. While water and air temperatures may vary\, a heated waterfront building is available for the barefooters to change before running to the dock to take their run.
URL:https://lakenormanskiclub.com/event/new-years-day-barefoot-challenge/
CATEGORIES:Calendar of Events
END:VEVENT
BEGIN:VEVENT
DTSTART;TZID=America/Halifax:20190101T000000
DTEND;TZID=America/Halifax:20190101T000000
DTSTAMP:20260423T192854
CREATED:20180328T162254Z
LAST-MODIFIED:20180328T164032Z
UID:122-1546300800-1546300800@lakenormanskiclub.com
SUMMARY:New Year Day
DESCRIPTION:
URL:https://lakenormanskiclub.com/event/new-year-day-2/
CATEGORIES:Calendar of Events,Holiday
END:VEVENT
BEGIN:VEVENT
DTSTART;TZID=America/Halifax:20181225T000000
DTEND;TZID=America/Halifax:20181225T000000
DTSTAMP:20260423T192854
CREATED:20180328T162252Z
LAST-MODIFIED:20180328T164247Z
UID:121-1545696000-1545696000@lakenormanskiclub.com
SUMMARY:Christmas Day
DESCRIPTION:
URL:https://lakenormanskiclub.com/event/christmas-day/
CATEGORIES:Calendar of Events,Holiday
END:VEVENT
BEGIN:VEVENT
DTSTART;TZID=America/Halifax:20181211T190000
DTEND;TZID=America/Halifax:20181211T210000
DTSTAMP:20260423T192854
CREATED:20181106T014411Z
LAST-MODIFIED:20181106T014411Z
UID:451-1544554800-1544562000@lakenormanskiclub.com
SUMMARY:December 2018 Board of Directors Meeting
DESCRIPTION:
URL:https://lakenormanskiclub.com/event/december-2018-board-of-directors-meeting/
CATEGORIES:Board of Directors,Calendar of Events,Meeting
END:VEVENT
BEGIN:VEVENT
DTSTART;TZID=America/Halifax:20181122T000000
DTEND;TZID=America/Halifax:20181122T000000
DTSTAMP:20260423T192854
CREATED:20180328T162251Z
LAST-MODIFIED:20180328T164247Z
UID:120-1542844800-1542844800@lakenormanskiclub.com
SUMMARY:Thanksgiving Day
DESCRIPTION:
URL:https://lakenormanskiclub.com/event/thanksgiving-day/
CATEGORIES:Calendar of Events,Holiday
END:VEVENT
BEGIN:VEVENT
DTSTART;TZID=America/Halifax:20181113T190000
DTEND;TZID=America/Halifax:20181113T210000
DTSTAMP:20260423T192854
CREATED:20181106T014320Z
LAST-MODIFIED:20181106T014320Z
UID:449-1542135600-1542142800@lakenormanskiclub.com
SUMMARY:November 2018 Board of Directors Meeting
DESCRIPTION:
URL:https://lakenormanskiclub.com/event/november-2018-board-of-directors-meeting/
CATEGORIES:Board of Directors,Calendar of Events,Meeting
END:VEVENT
BEGIN:VEVENT
DTSTART;TZID=America/Halifax:20181112T000000
DTEND;TZID=America/Halifax:20181112T000000
DTSTAMP:20260423T192854
CREATED:20180328T162251Z
LAST-MODIFIED:20180328T164247Z
UID:119-1541980800-1541980800@lakenormanskiclub.com
SUMMARY:Veterans Day
DESCRIPTION:
URL:https://lakenormanskiclub.com/event/veterans-day/
CATEGORIES:Calendar of Events,Holiday
END:VEVENT
BEGIN:VEVENT
DTSTART;TZID=America/Halifax:20181016T190000
DTEND;TZID=America/Halifax:20181016T210000
DTSTAMP:20260423T192854
CREATED:20181106T004545Z
LAST-MODIFIED:20181106T004545Z
UID:447-1539716400-1539723600@lakenormanskiclub.com
SUMMARY:October 2018 Board of Directors Meeting
DESCRIPTION:
URL:https://lakenormanskiclub.com/event/october-2018-board-of-directors-meeting/
CATEGORIES:Board of Directors,Calendar of Events,Meeting
END:VEVENT
BEGIN:VEVENT
DTSTART;TZID=America/Halifax:20181008T000000
DTEND;TZID=America/Halifax:20181008T000000
DTSTAMP:20260423T192854
CREATED:20180328T162249Z
LAST-MODIFIED:20180328T164247Z
UID:118-1538956800-1538956800@lakenormanskiclub.com
SUMMARY:Columbus Day
DESCRIPTION:
URL:https://lakenormanskiclub.com/event/columbus-day/
CATEGORIES:Calendar of Events,Holiday
END:VEVENT
BEGIN:VEVENT
DTSTART;VALUE=DATE:20180929
DTEND;VALUE=DATE:20180930
DTSTAMP:20260423T192854
CREATED:20180328T183822Z
LAST-MODIFIED:20180328T183822Z
UID:239-1538179200-1538265599@lakenormanskiclub.com
SUMMARY:Beaver Lake Fall Slalom
DESCRIPTION:
URL:https://lakenormanskiclub.com/event/beaver-lake-fall-slalom/
CATEGORIES:Tournaments
END:VEVENT
BEGIN:VEVENT
DTSTART;VALUE=DATE:20180915
DTEND;VALUE=DATE:20180917
DTSTAMP:20260423T192854
CREATED:20180328T183736Z
LAST-MODIFIED:20180328T183736Z
UID:236-1536969600-1537142399@lakenormanskiclub.com
SUMMARY:Queens Cup
DESCRIPTION:
URL:https://lakenormanskiclub.com/event/queens-cup/
CATEGORIES:Tournaments
END:VEVENT
BEGIN:VEVENT
DTSTART;VALUE=DATE:20180908
DTEND;VALUE=DATE:20180910
DTSTAMP:20260423T192854
CREATED:20180328T175415Z
LAST-MODIFIED:20180328T175415Z
UID:213-1536364800-1536537599@lakenormanskiclub.com
SUMMARY:RWSC Little Dawg
DESCRIPTION:
URL:https://lakenormanskiclub.com/event/rwsc-little-dawg/
CATEGORIES:Tournaments
END:VEVENT
BEGIN:VEVENT
DTSTART;TZID=America/Halifax:20180903T000000
DTEND;TZID=America/Halifax:20180903T000000
DTSTAMP:20260423T192854
CREATED:20180328T162248Z
LAST-MODIFIED:20180328T164247Z
UID:117-1535932800-1535932800@lakenormanskiclub.com
SUMMARY:Labor Day
DESCRIPTION:
URL:https://lakenormanskiclub.com/event/labor-day/
CATEGORIES:Calendar of Events,Holiday
END:VEVENT
BEGIN:VEVENT
DTSTART;VALUE=DATE:20180901
DTEND;VALUE=DATE:20180902
DTSTAMP:20260423T192854
CREATED:20180328T175329Z
LAST-MODIFIED:20180328T175329Z
UID:211-1535760000-1535846399@lakenormanskiclub.com
SUMMARY:Timberlake Tripod Team Tugoff
DESCRIPTION:
URL:https://lakenormanskiclub.com/event/timberlake-tripod-team-tugoff/
CATEGORIES:Tournaments
END:VEVENT
BEGIN:VEVENT
DTSTART;TZID=America/Halifax:20180828T170000
DTEND;TZID=America/Halifax:20180828T210000
DTSTAMP:20260423T192854
CREATED:20180328T190821Z
LAST-MODIFIED:20180328T192000Z
UID:266-1535475600-1535490000@lakenormanskiclub.com
SUMMARY:Tuesday Night Ski Practice Session
DESCRIPTION:Please Park in the SECOND LOT as a courtesy to Eddie’s & Prickly Pear’s customer parking spaces that are next to the restaurants\, we strive to stay in their good graces.
URL:https://lakenormanskiclub.com/event/tuesday-night-ski-practice-session-14/
LOCATION:Eddie’s on Lake Norman\, 643 Williamson Rd\, Mooresville\, NC\, 28117\, United States
CATEGORIES:Group Ski
END:VEVENT
BEGIN:VEVENT
DTSTART;VALUE=DATE:20180825
DTEND;VALUE=DATE:20180827
DTSTAMP:20260423T192854
CREATED:20180328T175228Z
LAST-MODIFIED:20180328T175228Z
UID:209-1535155200-1535327999@lakenormanskiclub.com
SUMMARY:Ken Mead Memorial 2018
DESCRIPTION:
URL:https://lakenormanskiclub.com/event/ken-mead-memorial-2018/
CATEGORIES:Tournaments
END:VEVENT
BEGIN:VEVENT
DTSTART;TZID=America/Halifax:20180821T170000
DTEND;TZID=America/Halifax:20180821T210000
DTSTAMP:20260423T192854
CREATED:20180328T190744Z
LAST-MODIFIED:20180328T191812Z
UID:264-1534870800-1534885200@lakenormanskiclub.com
SUMMARY:Tuesday Night Ski Practice Session
DESCRIPTION:Please Park in the SECOND LOT as a courtesy to Eddie’s & Prickly Pear’s customer parking spaces that are next to the restaurants\, we strive to stay in their good graces.
URL:https://lakenormanskiclub.com/event/tuesday-night-ski-practice-session-13/
LOCATION:Eddie’s on Lake Norman\, 643 Williamson Rd\, Mooresville\, NC\, 28117\, United States
CATEGORIES:Group Ski
END:VEVENT
BEGIN:VEVENT
DTSTART;VALUE=DATE:20180818
DTEND;VALUE=DATE:20180820
DTSTAMP:20260423T192854
CREATED:20180328T181048Z
LAST-MODIFIED:20180328T181048Z
UID:233-1534550400-1534723199@lakenormanskiclub.com
SUMMARY:Beaver Lake Challenge
DESCRIPTION:
URL:https://lakenormanskiclub.com/event/beaver-lake-challenge/
CATEGORIES:Tournaments
END:VEVENT
BEGIN:VEVENT
DTSTART;TZID=America/Halifax:20180814T170000
DTEND;TZID=America/Halifax:20180814T210000
DTSTAMP:20260423T192854
CREATED:20180328T190702Z
LAST-MODIFIED:20180328T191713Z
UID:262-1534266000-1534280400@lakenormanskiclub.com
SUMMARY:Tuesday Night Ski Practice Session
DESCRIPTION:Please Park in the SECOND LOT as a courtesy to Eddie’s & Prickly Pear’s customer parking spaces that are next to the restaurants\, we strive to stay in their good graces.
URL:https://lakenormanskiclub.com/event/tuesday-night-ski-practice-session-12/
LOCATION:Eddie’s on Lake Norman\, 643 Williamson Rd\, Mooresville\, NC\, 28117\, United States
CATEGORIES:Group Ski
END:VEVENT
BEGIN:VEVENT
DTSTART;TZID=America/Halifax:20180807T170000
DTEND;TZID=America/Halifax:20180807T210000
DTSTAMP:20260423T192854
CREATED:20180328T190629Z
LAST-MODIFIED:20180328T191655Z
UID:260-1533661200-1533675600@lakenormanskiclub.com
SUMMARY:Tuesday Night Ski Practice Session
DESCRIPTION:Please Park in the SECOND LOT as a courtesy to Eddie’s & Prickly Pear’s customer parking spaces that are next to the restaurants\, we strive to stay in their good graces.
URL:https://lakenormanskiclub.com/event/tuesday-night-ski-practice-session-11/
LOCATION:Eddie’s on Lake Norman\, 643 Williamson Rd\, Mooresville\, NC\, 28117\, United States
CATEGORIES:Group Ski
END:VEVENT
END:VCALENDAR